Workbook
Name DUREE: 'INSTRUCTIONS & EXAMPLE'!$P$6
Name DUREE: 'TECHNICAL REQUIREMENTS - PRIM'!$P$6
Name EQUIP_PPI: Tarifs!$A$4:$A$10
Name EQUIP_PPS: Tarifs!$A$13:$A$18
Name EQUIP_TOURNAGE: Tarifs!$A$48:$A$83
Name EQUIP_TR: Tarifs!$A$21
Name LTO: Tarifs!$F$23:$F$24
Name PROGRAMME: Tarifs!$A$94:$A$104
Name RABAIS: Tarifs!$B$95:$C$104
Name Supports: Tarifs!$A$86:$A$92
Name Tech_Ass: Tarifs!$D$3:$G$3
Name Tech_colo1: Tarifs!$D$6:$G$6
Name Tech_Colo2: Tarifs!$D$7:$G$7
Name Tech_edit: Tarifs!$D$15:$F$15
Name Tech_Labo: Tarifs!$D$13:$G$13
Name Tech_MixCine: Tarifs!$D$16:$G$16
Name Tech_Montage: Tarifs!$D$4:$G$4
Name Tech_online: Tarifs!$D$5:$G$5
Name Tech_VR: Tarifs!$D$8:$G$8
Name Techs_image: Tarifs!$A$35:$A$40
Name Techs_Images_Tarifs: Tarifs!$A$35:$B$40
Name Techs_son: Tarifs!$A$41:$A$44
Name Techs_son_Tarifs: Tarifs!$A$41:$B$44
Name Techs_TR: Tarifs!$A$45
Name UNIT_Tournage: Tarifs!$E$37:$E$40
Name VALEURS_FORMULAIRE: 'INSTRUCTIONS & EXAMPLE'!#REF!
Name VALEURS_FORMULAIRE: 'TECHNICAL REQUIREMENTS - PRIM'!#REF!

Sheet TECHNICAL REQUIREMENTS - PRIM
C2: This tool is intended to help PRIM members calculate their budget independently. It should never be considered as a commitment of PRIM. A more accurate evaluation will be made by PRIM during the booking process. Rates from March 1, 2027. Rates subject to change.
O3: Support Program: | P3: Choose the program from the list
O4: Project Title:
A5: ESTIMATING TECHNICAL REQUIREMENTS | O5: Artist's name:
O6: Duration of the work: | Q6: min. | S6: Pratique :
C7: Support program discounts do not apply if you work with an external technician (except image editing rooms, VR room, and sound editing studio) | O7: Valeur Résidence ou prix : | T7: =IFERROR(VLOOKUP($T$6,Tarifs!$A$110:$E$114,IF(DUREE<60,3,5),FALSE),"")
O8: Honoraires tech. Inclus :
AA10: Validation | AB10: Aides programmes | AC10: Aide residence | AD10: Solde Res | AE10: Différence | AF10: TOTAL AIDE SALLES | AG10: Aide Tech Res | AH10: Solde techs | AI10: TOTAL AIDE TECHS
A11: FILMING EQUIPMENT RENTAL | G11: Équipements | Z11: =IF(Tarifs!$D$96=Tarifs!$B$102,"TOTAL Payable by the organization", "TOTAL Payable by the artist") -> TOTAL Payable by the artist | AB11: 0.5 | AE11: 0.5
A12: Equipment | C12: Qt | E12: Duration | G12: Rate | I12: Costs | K12: =IFERROR(IF(OR($P$3=Tarifs!$A$94,$P$3=Tarifs!$A$95),"PRIM Support","PRIM Support "&VLOOKUP($P$3,Tarifs!$A$94:$C$104,3,FALSE)*100&"%"),"PRIM Support") -> PRIM Support | M12: Payable | AC12: 0 | AD12: =P7 -> 0 | AH12: =P8 -> 0
F13: x | G13: =IF(OR(A13="",E13=""),0,(VLOOKUP(A13,Tarifs!A$48:E$83,IF(E13="Day",2,IF(E13="Weekend",3,IF(E13="Week",4,IF(E13="Month",5,"")))),FALSE))) -> 0 | H13: = | I13: =C13*G13 -> 0 | J13: - | K13: =AI13 -> 0 | L13: = | M13: =I13-K13 -> 0 | Z13: =M13 -> 0 | AB13: =IF(OR($P$3=Tarifs!$A$94,$P$3=Tarifs!$A$95,$P$3=Tarifs!$A$95,$P$3=Tarifs!$A$104),0,I13*IFERROR(VLOOKUP(Tarifs!D$96,RABAIS,2,FALSE),0)) -> 0 | AC13: =IF($P$3=Tarifs!$A$104,IF(OR($P$7=0,I13<=AD12),I13,AD12),0) -> 0 | AD13: =AD12-AC13 -> 0 | AE13: =(I13-AC13)*$AE$11 -> 0 | AF13: =IF(Tarifs!D$96=8,AC13+AE13,AB13) -> 0 | AG13: 0 | AH13: =AH12-AG13 -> 0 | AI13: =IF($P$3=Tarifs!$A$104,AC13+AE13,AB13) -> 0
F14: x | G14: =IF(OR(A14="",E14=""),0,(VLOOKUP(A14,Tarifs!A$48:E$83,IF(E14="Day",2,IF(E14="Weekend",3,IF(E14="Week",4,IF(E14="Month",5,"")))),FALSE))) -> 0 | H14: = | I14: =C14*G14 -> 0 | J14: - | K14: =AI14 -> 0 | L14: = | M14: =I14-K14 -> 0 | Z14: =M14 -> 0 | AB14: =IF(OR($P$3=Tarifs!$A$94,$P$3=Tarifs!$A$95,$P$3=Tarifs!$A$95,$P$3=Tarifs!$A$104),0,I14*IFERROR(VLOOKUP(Tarifs!D$96,RABAIS,2,FALSE),0)) -> 0 | AC14: =IF($P$3=Tarifs!$A$104,IF(OR($P$7=0,I14<=AD13),I14,AD13),0) -> 0 | AD14: =AD13-AC14 -> 0 | AE14: =(I14-AC14)*$AE$11 -> 0 | AF14: =IF(Tarifs!D$96=8,AC14+AE14,AB14) -> 0 | AG14: 0 | AH14: =AH13-AG14 -> 0 | AI14: =IF($P$3=Tarifs!$A$104,AC14+AE14,AB14) -> 0
F15: x | G15: =IF(OR(A15="",E15=""),0,(VLOOKUP(A15,Tarifs!A$48:E$83,IF(E15="Day",2,IF(E15="Weekend",3,IF(E15="Week",4,IF(E15="Month",5,"")))),FALSE))) -> 0 | H15: = | I15: =C15*G15 -> 0 | J15: - | K15: =AI15 -> 0 | L15: = | M15: =I15-K15 -> 0 | Z15: =M15 -> 0 | AB15: =IF(OR($P$3=Tarifs!$A$94,$P$3=Tarifs!$A$95,$P$3=Tarifs!$A$95,$P$3=Tarifs!$A$104),0,I15*IFERROR(VLOOKUP(Tarifs!D$96,RABAIS,2,FALSE),0)) -> 0 | AC15: =IF($P$3=Tarifs!$A$104,IF(OR($P$7=0,I15<=AD14),I15,AD14),0) -> 0 | AD15: =AD14-AC15 -> 0 | AE15: =(I15-AC15)*$AE$11 -> 0 | AF15: =IF(Tarifs!D$96=8,AC15+AE15,AB15) -> 0 | AG15: 0 | AH15: =AH14-AG15 -> 0 | AI15: =IF($P$3=Tarifs!$A$104,AC15+AE15,AB15) -> 0
F16: x | G16: =IF(OR(A16="",E16=""),0,(VLOOKUP(A16,Tarifs!A$48:E$83,IF(E16="Day",2,IF(E16="Weekend",3,IF(E16="Week",4,IF(E16="Month",5,"")))),FALSE))) -> 0 | H16: = | I16: =C16*G16 -> 0 | J16: - | K16: =AI16 -> 0 | L16: = | M16: =I16-K16 -> 0 | Z16: =M16 -> 0 | AB16: =IF(OR($P$3=Tarifs!$A$94,$P$3=Tarifs!$A$95,$P$3=Tarifs!$A$95,$P$3=Tarifs!$A$104),0,I16*IFERROR(VLOOKUP(Tarifs!D$96,RABAIS,2,FALSE),0)) -> 0 | AC16: =IF($P$3=Tarifs!$A$104,IF(OR($P$7=0,I16<=AD15),I16,AD15),0) -> 0 | AD16: =AD15-AC16 -> 0 | AE16: =(I16-AC16)*$AE$11 -> 0 | AF16: =IF(Tarifs!D$96=8,AC16+AE16,AB16) -> 0 | AG16: 0 | AH16: =AH15-AG16 -> 0 | AI16: =IF($P$3=Tarifs!$A$104,AC16+AE16,AB16) -> 0
F17: x | G17: =IF(OR(A17="",E17=""),0,(VLOOKUP(A17,Tarifs!A$48:E$83,IF(E17="Day",2,IF(E17="Weekend",3,IF(E17="Week",4,IF(E17="Month",5,"")))),FALSE))) -> 0 | H17: = | I17: =C17*G17 -> 0 | J17: - | K17: =AI17 -> 0 | L17: = | M17: =I17-K17 -> 0 | Z17: =M17 -> 0 | AB17: =IF(OR($P$3=Tarifs!$A$94,$P$3=Tarifs!$A$95,$P$3=Tarifs!$A$95,$P$3=Tarifs!$A$104),0,I17*IFERROR(VLOOKUP(Tarifs!D$96,RABAIS,2,FALSE),0)) -> 0 | AC17: =IF($P$3=Tarifs!$A$104,IF(OR($P$7=0,I17<=AD16),I17,AD16),0) -> 0 | AD17: =AD16-AC17 -> 0 | AE17: =(I17-AC17)*$AE$11 -> 0 | AF17: =IF(Tarifs!D$96=8,AC17+AE17,AB17) -> 0 | AG17: 0 | AH17: =AH16-AG17 -> 0 | AI17: =IF($P$3=Tarifs!$A$104,AC17+AE17,AB17) -> 0
F18: x | G18: =IF(OR(A18="",E18=""),0,(VLOOKUP(A18,Tarifs!A$48:E$83,IF(E18="Day",2,IF(E18="Weekend",3,IF(E18="Week",4,IF(E18="Month",5,"")))),FALSE))) -> 0 | H18: = | I18: =C18*G18 -> 0 | J18: - | K18: =AI18 -> 0 | L18: = | M18: =I18-K18 -> 0 | Z18: =M18 -> 0 | AB18: =IF(OR($P$3=Tarifs!$A$94,$P$3=Tarifs!$A$95,$P$3=Tarifs!$A$95,$P$3=Tarifs!$A$104),0,I18*IFERROR(VLOOKUP(Tarifs!D$96,RABAIS,2,FALSE),0)) -> 0 | AC18: =IF($P$3=Tarifs!$A$104,IF(OR($P$7=0,I18<=AD17),I18,AD17),0) -> 0 | AD18: =AD17-AC18 -> 0 | AE18: =(I18-AC18)*$AE$11 -> 0 | AF18: =IF(Tarifs!D$96=8,AC18+AE18,AB18) -> 0 | AG18: 0 | AH18: =AH17-AG18 -> 0 | AI18: =IF($P$3=Tarifs!$A$104,AC18+AE18,AB18) -> 0
F19: x | G19: =IF(OR(A19="",E19=""),0,(VLOOKUP(A19,Tarifs!A$48:E$83,IF(E19="Day",2,IF(E19="Weekend",3,IF(E19="Week",4,IF(E19="Month",5,"")))),FALSE))) -> 0 | H19: = | I19: =C19*G19 -> 0 | J19: - | K19: =AI19 -> 0 | L19: = | M19: =I19-K19 -> 0 | Z19: =M19 -> 0 | AB19: =IF(OR($P$3=Tarifs!$A$94,$P$3=Tarifs!$A$95,$P$3=Tarifs!$A$95,$P$3=Tarifs!$A$104),0,I19*IFERROR(VLOOKUP(Tarifs!D$96,RABAIS,2,FALSE),0)) -> 0 | AC19: =IF($P$3=Tarifs!$A$104,IF(OR($P$7=0,I19<=AD18),I19,AD18),0) -> 0 | AD19: =AD18-AC19 -> 0 | AE19: =(I19-AC19)*$AE$11 -> 0 | AF19: =IF(Tarifs!D$96=8,AC19+AE19,AB19) -> 0 | AG19: 0 | AH19: =AH18-AG19 -> 0 | AI19: =IF($P$3=Tarifs!$A$104,AC19+AE19,AB19) -> 0
A20: TOTAL LOCATION ÉQUIPEMENTS DE TOURNAGE | I20: =SUM(I13:I19) -> 0 | J20: - | K20: =SUM(K13:K19) -> 0 | L20: = | M20: =SUM(M13:M19) -> 0 | Z20: =SUM(Z13:Z19) -> 0
A22: IMAGE POST-PRODUCTION | B22: PRIM Technician Choice This choice has an impact on the discount (PRIM Support) | G22: Salles et équipements | R22: Technicians | Z22: =IF(Tarifs!$D$96=Tarifs!$B$102,"TOTAL Payable by the organization", "TOTAL Payable by the artist") -> TOTAL Payable by the artist
A23: Rooms and equipments | C23: Number of hours | G23: Rate | I23: Costs | K23: =IFERROR(IF(OR($P$3=Tarifs!$A$94,$P$3=Tarifs!$A$95),"PRIM Support","PRIM Support "&VLOOKUP($P$3,Tarifs!$A$94:$C$104,3,FALSE)*100&"%"),"PRIM Support") -> PRIM Support | M23: Payable | O23: PRIM Technicians | P23: Number of hours | R23: Rate | T23: Costs | V23: PRIM Support | X23: Payable
F24: x | G24: =IF(A24="",0,VLOOKUP(A24,Tarifs!A$3:E$21,2,FALSE)) -> 0 | H24: = | I24: =C24*G24 -> 0 | J24: - | K24: =AF24 -> 0 | L24: = | M24: =I24-K24 -> 0 | O24: =IF(B24=0,"",B24) | P24: =IF(OR(B24=Tarifs!$A$35,B24=Tarifs!$A$36,B24=""),"", C24) | Q24: x | R24: =IF(OR(B24="",B24=" "),0,VLOOKUP(B24,Techs_Images_Tarifs,2,FALSE)) -> 0 | S24: = | T24: =IF(P24="",0,R24*P24) -> 0 | U24: - | V24: =IF(OR(T24=0,$P$8=0),0,IF(Tarifs!D$96=8,IF(P$8>T24,T24,P$8),0)) -> 0 | W24: = | X24: =T24-V24 -> 0 | Z24: =M24+X24 -> 0 | AA24: =IF(IFERROR(VLOOKUP(A24,Tarifs!A$3:C$19,3,FALSE),"")="x","Tech PRIM","") | AB24: =IF(OR($P$3=Tarifs!$A$94,$P$3=Tarifs!$A$95,$P$3=Tarifs!$A$104),0,IF($B24="",0,IF(AND(AA24="Tech PRIM",$B24=Tarifs!$A$35),I24*$AB$11,IF(AND(Tarifs!D$96=5,A24=Tarifs!$A$4),IF(I24<=$T$7,I24,$T$7+(I24-$T$7)*75%),I24*IFERROR(VLOOKUP(Tarifs!D$96,RABAIS,2,FALSE),0))))) -> 0 | AC24: =IF($P$3=Tarifs!$A$104,IF(AND(AA24="Tech PRIM",$B24=Tarifs!$A$35),0,IF(OR($P$7=0,I24<=AD19),I24,AD19)),0) -> 0 | AD24: =AD19-AC24 -> 0 | AE24: =(I24-AC24)*$AE$11 -> 0 | AF24: =IF($P$3=Tarifs!$A$104,AC24+AE24,AB24) -> 0 | AG24: =IF($P$3=Tarifs!$A$104,IF($P$8=0,0,IF(T24<=AH19,T24,AH19)),0) -> 0 | AH24: =AH19-AG24 -> 0 | AI24: =AG24 -> 0
F25: x | G25: =IF(A25="",0,VLOOKUP(A25,Tarifs!A$3:E$21,2,FALSE)) -> 0 | H25: = | I25: =C25*G25 -> 0 | J25: - | K25: =AF25 -> 0 | L25: = | M25: =I25-K25 -> 0 | O25: =IF(B25=0,"",B25) | P25: =IF(OR(B25=Tarifs!$A$35,B25=Tarifs!$A$36,B25=""),"", C25) | Q25: x | R25: =IF(B25="",0,VLOOKUP(B25,Techs_Images_Tarifs,2,FALSE)) -> 0 | S25: = | T25: =IF(P25="",0,R25*P25) -> 0 | U25: - | V25: =IF(OR(T25=0,$P$8=0),0,IF(Tarifs!D$96=8,IF(P$8>T25,T25,P$8),0)) -> 0 | W25: = | X25: =T25-V25 -> 0 | Z25: =M25+X25 -> 0 | AA25: =IF(IFERROR(VLOOKUP(A25,Tarifs!A$3:C$19,3,FALSE),"")="x","Tech PRIM","") | AB25: =IF(OR($P$3=Tarifs!$A$94,$P$3=Tarifs!$A$95,$P$3=Tarifs!$A$104),0,IF($B25="",0,IF(AND(AA25="Tech PRIM",$B25=Tarifs!$A$35),I25*$AB$11,IF(AND(Tarifs!D$96=5,A25=Tarifs!$A$4),IF(I25<=$T$7,I25,$T$7+(I25-$T$7)*75%),I25*IFERROR(VLOOKUP(Tarifs!D$96,RABAIS,2,FALSE),0))))) -> 0 | AC25: =IF($P$3=Tarifs!$A$104,IF(AND(AA25="Tech PRIM",$B25=Tarifs!$A$35),0,IF(OR($P$7=0,I25<=AD24),I25,AD24)),0) -> 0 | AD25: =AD24-AC25 -> 0 | AE25: =(X25-AC25)*$AE$11 -> 0 | AF25: =IF($P$3=Tarifs!$A$104,AC25+AE25,AB25) -> 0 | AG25: =IF($P$3=Tarifs!$A$104,IF($P$8=0,0,IF(T25<=AH24,T25,AH24)),0) -> 0 | AH25: =AH24-AG25 -> 0 | AI25: =AG25 -> 0
F26: x | G26: =IF(A26="",0,VLOOKUP(A26,Tarifs!A$3:E$21,2,FALSE)) -> 0 | H26: = | I26: =C26*G26 -> 0 | J26: - | K26: =AF26 -> 0 | L26: = | M26: =I26-K26 -> 0 | O26: =IF(B26=0,"",B26) | P26: =IF(OR(B26=Tarifs!$A$35,B26=Tarifs!$A$36,B26=""),"", C26) | Q26: x | R26: =IF(B26="",0,VLOOKUP(B26,Techs_Images_Tarifs,2,FALSE)) -> 0 | S26: = | T26: =IF(P26="",0,R26*P26) -> 0 | U26: - | V26: =IF(OR(T26=0,$P$8=0),0,IF(Tarifs!D$96=8,IF(P$8>T26,T26,P$8),0)) -> 0 | W26: = | X26: =T26-V26 -> 0 | Z26: =M26+X26 -> 0 | AA26: =IF(IFERROR(VLOOKUP(A26,Tarifs!A$3:C$19,3,FALSE),"")="x","Tech PRIM","") | AB26: =IF(OR($P$3=Tarifs!$A$94,$P$3=Tarifs!$A$95,$P$3=Tarifs!$A$104),0,IF($B26="",0,IF(AND(AA26="Tech PRIM",$B26=Tarifs!$A$35),I26*$AB$11,IF(AND(Tarifs!D$96=5,A26=Tarifs!$A$4),IF(I26<=$T$7,I26,$T$7+(I26-$T$7)*75%),I26*IFERROR(VLOOKUP(Tarifs!D$96,RABAIS,2,FALSE),0))))) -> 0 | AC26: =IF($P$3=Tarifs!$A$104,IF(AND(AA26="Tech PRIM",$B26=Tarifs!$A$35),0,IF(OR($P$7=0,I26<=AD25),I26,AD25)),0) -> 0 | AD26: =AD25-AC26 -> 0 | AE26: =(X26-AC26)*$AE$11 -> 0 | AF26: =IF($P$3=Tarifs!$A$104,AC26+AE26,AB26) -> 0 | AG26: =IF($P$3=Tarifs!$A$104,IF($P$8=0,0,IF(T26<=AH25,T26,AH25)),0) -> 0 | AH26: =AH25-AG26 -> 0 | AI26: =AG26 -> 0
F27: x | G27: =IF(A27="",0,VLOOKUP(A27,Tarifs!A$3:E$21,2,FALSE)) -> 0 | H27: = | I27: =C27*G27 -> 0 | J27: - | K27: =AF27 -> 0 | L27: = | M27: =I27-K27 -> 0 | O27: =IF(B27=0,"",B27) | P27: =IF(OR(B27=Tarifs!$A$35,B27=Tarifs!$A$36,B27=""),"", C27) | Q27: x | R27: =IF(B27="",0,VLOOKUP(B27,Techs_Images_Tarifs,2,FALSE)) -> 0 | S27: = | T27: =IF(P27="",0,R27*P27) -> 0 | U27: - | V27: =IF(OR(T27=0,$P$8=0),0,IF(Tarifs!D$96=8,IF(P$8>T27,T27,P$8),0)) -> 0 | W27: = | X27: =T27-V27 -> 0 | Z27: =M27+X27 -> 0 | AA27: =IF(IFERROR(VLOOKUP(A27,Tarifs!A$3:C$19,3,FALSE),"")="x","Tech PRIM","") | AB27: =IF(OR($P$3=Tarifs!$A$94,$P$3=Tarifs!$A$95,$P$3=Tarifs!$A$104),0,IF($B27="",0,IF(AND(AA27="Tech PRIM",$B27=Tarifs!$A$35),I27*$AB$11,IF(AND(Tarifs!D$96=5,A27=Tarifs!$A$4),IF(I27<=$T$7,I27,$T$7+(I27-$T$7)*75%),I27*IFERROR(VLOOKUP(Tarifs!D$96,RABAIS,2,FALSE),0))))) -> 0 | AC27: =IF($P$3=Tarifs!$A$104,IF(AND(AA27="Tech PRIM",$B27=Tarifs!$A$35),0,IF(OR($P$7=0,I27<=AD26),I27,AD26)),0) -> 0 | AD27: =AD26-AC27 -> 0 | AE27: =(X27-AC27)*$AE$11 -> 0 | AF27: =IF($P$3=Tarifs!$A$104,AC27+AE27,AB27) -> 0 | AG27: =IF($P$3=Tarifs!$A$104,IF($P$8=0,0,IF(T27<=AH26,T27,AH26)),0) -> 0 | AH27: =AH26-AG27 -> 0 | AI27: =AG27 -> 0
F28: x | G28: =IF(A28="",0,VLOOKUP(A28,Tarifs!A$3:E$21,2,FALSE)) -> 0 | H28: = | I28: =C28*G28 -> 0 | J28: - | K28: =AF28 -> 0 | L28: = | M28: =I28-K28 -> 0 | O28: =IF(B28=0,"",B28) | P28: =IF(OR(B28=Tarifs!$A$35,B28=Tarifs!$A$36,B28=""),"", C28) | Q28: x | R28: =IF(B28="",0,VLOOKUP(B28,Techs_Images_Tarifs,2,FALSE)) -> 0 | S28: = | T28: =IF(P28="",0,R28*P28) -> 0 | U28: - | V28: =IF(OR(T28=0,$P$8=0),0,IF(Tarifs!D$96=8,IF(P$8>T28,T28,P$8),0)) -> 0 | W28: = | X28: =T28-V28 -> 0 | Z28: =M28+X28 -> 0 | AA28: =IF(IFERROR(VLOOKUP(A28,Tarifs!A$3:C$19,3,FALSE),"")="x","Tech PRIM","") | AB28: =IF(OR($P$3=Tarifs!$A$94,$P$3=Tarifs!$A$95,$P$3=Tarifs!$A$104),0,IF($B28="",0,IF(AND(AA28="Tech PRIM",$B28=Tarifs!$A$35),I28*$AB$11,IF(AND(Tarifs!D$96=5,A28=Tarifs!$A$4),IF(I28<=$T$7,I28,$T$7+(I28-$T$7)*75%),I28*IFERROR(VLOOKUP(Tarifs!D$96,RABAIS,2,FALSE),0))))) -> 0 | AC28: =IF($P$3=Tarifs!$A$104,IF(AND(AA28="Tech PRIM",$B28=Tarifs!$A$35),0,IF(OR($P$7=0,I28<=AD27),I28,AD27)),0) -> 0 | AD28: =AD27-AC28 -> 0 | AE28: =(X28-AC28)*$AE$11 -> 0 | AF28: =IF($P$3=Tarifs!$A$104,AC28+AE28,AB28) -> 0 | AG28: =IF($P$3=Tarifs!$A$104,IF($P$8=0,0,IF(T28<=AH27,T28,AH27)),0) -> 0 | AH28: =AH27-AG28 -> 0 | AI28: =AG28 -> 0
F29: x | G29: =IF(A29="",0,VLOOKUP(A29,Tarifs!A$3:E$21,2,FALSE)) -> 0 | H29: = | I29: =C29*G29 -> 0 | J29: - | K29: =AF29 -> 0 | L29: = | M29: =I29-K29 -> 0 | O29: =IF(B29=0,"",B29) | P29: =IF(OR(B29=Tarifs!$A$35,B29=Tarifs!$A$36,B29=""),"", C29) | Q29: x | R29: =IF(B29="",0,VLOOKUP(B29,Techs_Images_Tarifs,2,FALSE)) -> 0 | S29: = | T29: =IF(P29="",0,R29*P29) -> 0 | U29: - | V29: =IF(OR(T29=0,$P$8=0),0,IF(Tarifs!D$96=8,IF(P$8>T29,T29,P$8),0)) -> 0 | W29: = | X29: =T29-V29 -> 0 | Z29: =M29+X29 -> 0 | AA29: =IF(IFERROR(VLOOKUP(A29,Tarifs!A$3:C$19,3,FALSE),"")="x","Tech PRIM","") | AB29: =IF(OR($P$3=Tarifs!$A$94,$P$3=Tarifs!$A$95,$P$3=Tarifs!$A$104),0,IF($B29="",0,IF(AND(AA29="Tech PRIM",$B29=Tarifs!$A$35),I29*$AB$11,IF(AND(Tarifs!D$96=5,A29=Tarifs!$A$4),IF(I29<=$T$7,I29,$T$7+(I29-$T$7)*75%),I29*IFERROR(VLOOKUP(Tarifs!D$96,RABAIS,2,FALSE),0))))) -> 0 | AC29: =IF($P$3=Tarifs!$A$104,IF(AND(AA29="Tech PRIM",$B29=Tarifs!$A$35),0,IF(OR($P$7=0,I29<=AD28),I29,AD28)),0) -> 0 | AD29: =AD28-AC29 -> 0 | AE29: =(X29-AC29)*$AE$11 -> 0 | AF29: =IF($P$3=Tarifs!$A$104,AC29+AE29,AB29) -> 0 | AG29: =IF($P$3=Tarifs!$A$104,IF($P$8=0,0,IF(T29<=AH28,T29,AH28)),0) -> 0 | AH29: =AH28-AG29 -> 0 | AI29: =AG29 -> 0
F30: x | G30: =IF(A30="",0,VLOOKUP(A30,Tarifs!A$3:E$21,2,FALSE)) -> 0 | H30: = | I30: =C30*G30 -> 0 | J30: - | K30: =AF30 -> 0 | L30: = | M30: =I30-K30 -> 0 | O30: =IF(B30=0,"",B30) | P30: =IF(OR(B30=Tarifs!$A$35,B30=Tarifs!$A$36,B30=""),"", C30) | Q30: x | R30: =IF(B30="",0,VLOOKUP(B30,Techs_Images_Tarifs,2,FALSE)) -> 0 | S30: = | T30: =IF(P30="",0,R30*P30) -> 0 | U30: - | V30: =IF(OR(T30=0,$P$8=0),0,IF(Tarifs!D$96=8,IF(P$8>T30,T30,P$8),0)) -> 0 | W30: = | X30: =T30-V30 -> 0 | Z30: =M30+X30 -> 0 | AA30: =IF(IFERROR(VLOOKUP(A30,Tarifs!A$3:C$19,3,FALSE),"")="x","Tech PRIM","") | AB30: =IF(OR($P$3=Tarifs!$A$94,$P$3=Tarifs!$A$95,$P$3=Tarifs!$A$104),0,IF($B30="",0,IF(AND(AA30="Tech PRIM",$B30=Tarifs!$A$35),I30*$AB$11,IF(AND(Tarifs!D$96=5,A30=Tarifs!$A$4),IF(I30<=$T$7,I30,$T$7+(I30-$T$7)*75%),I30*IFERROR(VLOOKUP(Tarifs!D$96,RABAIS,2,FALSE),0))))) -> 0 | AC30: =IF($P$3=Tarifs!$A$104,IF(AND(AA30="Tech PRIM",$B30=Tarifs!$A$35),0,IF(OR($P$7=0,I30<=AD29),I30,AD29)),0) -> 0 | AD30: =AD29-AC30 -> 0 | AE30: =(X30-AC30)*$AE$11 -> 0 | AF30: =IF($P$3=Tarifs!$A$104,AC30+AE30,AB30) -> 0 | AG30: =IF($P$3=Tarifs!$A$104,IF($P$8=0,0,IF(T30<=AH29,T30,AH29)),0) -> 0 | AH30: =AH29-AG30 -> 0 | AI30: =AG30 -> 0
F31: x | G31: =IF(A31="",0,VLOOKUP(A31,Tarifs!A$3:E$21,2,FALSE)) -> 0 | H31: = | I31: =C31*G31 -> 0 | J31: - | K31: =AF31 -> 0 | L31: = | M31: =I31-K31 -> 0 | O31: =IF(B31=0,"",B31) | P31: =IF(OR(B31=Tarifs!$A$35,B31=Tarifs!$A$36,B31=""),"", C31) | Q31: x | R31: =IF(B31="",0,VLOOKUP(B31,Techs_Images_Tarifs,2,FALSE)) -> 0 | S31: = | T31: =IF(P31="",0,R31*P31) -> 0 | U31: - | V31: =IF(OR(T31=0,$P$8=0),0,IF(Tarifs!D$96=8,IF(P$8>T31,T31,P$8),0)) -> 0 | W31: = | X31: =T31-V31 -> 0 | Z31: =M31+X31 -> 0 | AA31: =IF(IFERROR(VLOOKUP(A31,Tarifs!A$3:C$19,3,FALSE),"")="x","Tech PRIM","") | AB31: =IF(OR($P$3=Tarifs!$A$94,$P$3=Tarifs!$A$95,$P$3=Tarifs!$A$104),0,IF($B31="",0,IF(AND(AA31="Tech PRIM",$B31=Tarifs!$A$35),I31*$AB$11,IF(AND(Tarifs!D$96=5,A31=Tarifs!$A$4),IF(I31<=$T$7,I31,$T$7+(I31-$T$7)*75%),I31*IFERROR(VLOOKUP(Tarifs!D$96,RABAIS,2,FALSE),0))))) -> 0 | AC31: =IF($P$3=Tarifs!$A$104,IF(AND(AA31="Tech PRIM",$B31=Tarifs!$A$35),0,IF(OR($P$7=0,I31<=AD30),I31,AD30)),0) -> 0 | AD31: =AD30-AC31 -> 0 | AE31: =(X31-AC31)*$AE$11 -> 0 | AF31: =IF($P$3=Tarifs!$A$104,AC31+AE31,AB31) -> 0 | AG31: =IF($P$3=Tarifs!$A$104,IF($P$8=0,0,IF(T31<=AH30,T31,AH30)),0) -> 0 | AH31: =AH30-AG31 -> 0 | AI31: =AG31 -> 0
A32: =Tarifs!A11 -> Data management fee (flat fee) | B32: Included | C32: =IF(SUM(I24:I31)>=4000,1,0) -> 0 | F32: x | G32: =IF(C32=0,0,VLOOKUP(A32,Tarifs!A$3:E$21,2,FALSE)) -> 0 | I32: =C32*G32 -> 0 | J32: - | K32: =AF32 -> 0 | M32: =I32-K32 -> 0 | Z32: =M32+X32 -> 0 | AA32: =IF(IFERROR(VLOOKUP(A32,Tarifs!A$3:C$19,3,FALSE),"")="x","Tech PRIM","") | AB32: =IF(OR($P$3=Tarifs!$A$94,$P$3=Tarifs!$A$95,$P$3=Tarifs!$A$95,$P$3=Tarifs!$A$104),0,IF($B32="",0,IF(AND(AA32="Tech PRIM",$B32=Tarifs!$A$35),I32*$AB$11,I32*IFERROR(VLOOKUP(Tarifs!D$96,RABAIS,2,FALSE),0)))) -> 0 | AC32: =IF($P$3=Tarifs!$A$104,IF(AND(AA32="Tech PRIM",$B32=Tarifs!$A$35),0,IF(OR($P$7=0,I32<=AD31),I32,AD31)),0) -> 0 | AD32: =AD31-AC32 -> 0 | AE32: =(X32-AC32)*$AE$11 -> 0 | AF32: =IF($P$3=Tarifs!$A$104,AC32+AE32,AB32) -> 0 | AG32: =IF($P$3=Tarifs!$A$104,IF($P$8=0,0,IF(T32<=AH31,T32,AH31)),0) -> 0 | AH32: =AH31-AG32 -> 0 | AI32: =AG32 -> 0
A33: TOTAL IMAGE POST-PRODUCTION | I33: =SUM(I24:I32) -> 0 | J33: - | K33: =SUM(K24:K32) -> 0 | L33: = | M33: =SUM(M24:M32) -> 0 | T33: =SUM(T24:T32) -> 0 | U33: - | V33: =SUM(V24:V32) -> 0 | W33: = | X33: =SUM(X24:X32) -> 0 | Z33: =SUM(Z24:Z32) -> 0
A35: SOUND POST-PRODUCTION | B35: PRIM Technician Choice This choice has an impact on the discount (PRIM Support) | G35: Studios et équipements | R35: Technicians | Z35: =IF(Tarifs!$D$96=Tarifs!$B$102,"TOTAL Payable by the organization", "TOTAL Payable by the artist") -> TOTAL Payable by the artist
A36: Studios and equipements | C36: Number of hours | G36: Rate | I36: Costs | K36: =IFERROR(IF(OR($P$3=Tarifs!$A$94,$P$3=Tarifs!$A$95),"PRIM Support","PRIM Support "&VLOOKUP($P$3,Tarifs!$A$94:$C$104,3,FALSE)*100&"%"),"PRIM Support") -> PRIM Support | M36: Payable | O36: PRIM Technicians | P36: Number of hours | R36: Rate | T36: Costs | V36: PRIM Support | X36: Payable
F37: x | G37: =IF(A37="",0,VLOOKUP(A37,Tarifs!A$3:E$21,2,FALSE)) -> 0 | H37: = | I37: =C37*G37 -> 0 | J37: - | K37: =AF37 -> 0 | L37: = | M37: =I37-K37 -> 0 | O37: =IF(B37=0,"",B37) | P37: =IF(OR(B37=Tarifs!$A$35,B37=Tarifs!$A$36,B37=""),"", C37) | Q37: x | R37: =IF(B37="",0,VLOOKUP(B37,Techs_son_Tarifs,2,FALSE)) -> 0 | S37: = | T37: =IF(P37="",0,R37*P37) -> 0 | U37: - | V37: =IF(OR(T37=0,$P$8=0),0,IF(Tarifs!D$96=8,IF(P$8>T37,T37,P$8),0)) -> 0 | W37: = | X37: =T37-V37 -> 0 | Z37: =M37+X37 -> 0 | AA37: =IF(IFERROR(VLOOKUP(A37,Tarifs!A$3:C$19,3,FALSE),"")="x","Tech PRIM","") | AB37: =IF(OR($P$3=Tarifs!$A$94,$P$3=Tarifs!$A$95,$P$3=Tarifs!$A$95,$P$3=Tarifs!$A$104),0,IF($B37="",0,IF(AND(AA37="Tech PRIM",$B37=Tarifs!$A$35),I37*$AB$11,I37*IFERROR(VLOOKUP(Tarifs!D$96,RABAIS,2,FALSE),0)))) -> 0 | AC37: =IF($P$3=Tarifs!$A$104,IF(AND(AA37="Tech PRIM",$B37=Tarifs!$A$35),0,IF(OR($P$7=0,I37<=AD32),I37,AD32)),0) -> 0 | AD37: =AD32-AC37 -> 0 | AE37: =(X37-AC37)*$AE$11 -> 0 | AF37: =IF($P$3=Tarifs!$A$104,AC37+AE37,AB37) -> 0 | AG37: =IF($P$3=Tarifs!$A$104,IF($P$8=0,0,IF(T37<=AH32,T37,AH32)),0) -> 0 | AH37: =AH32-AG37 -> 0 | AI37: =AG37 -> 0
F38: x | G38: =IF(A38="",0,VLOOKUP(A38,Tarifs!A$3:E$21,2,FALSE)) -> 0 | H38: = | I38: =C38*G38 -> 0 | J38: + | K38: =AF38 -> 0 | L38: = | M38: =I38-K38 -> 0 | O38: =IF(B38=0,"",B38) | P38: =IF(OR(B38=Tarifs!$A$35,B38=Tarifs!$A$36,B38=""),"", C38) | Q38: x | R38: =IF(B38="",0,VLOOKUP(B38,Techs_son_Tarifs,2,FALSE)) -> 0 | S38: = | T38: =IF(P38="",0,R38*P38) -> 0 | U38: - | V38: =IF(OR(T38=0,$P$8=0),0,IF(Tarifs!D$96=8,IF(P$8>T38,T38,P$8),0)) -> 0 | W38: = | X38: =T38-V38 -> 0 | Z38: =M38+X38 -> 0 | AA38: =IF(IFERROR(VLOOKUP(A38,Tarifs!A$3:C$19,3,FALSE),"")="x","Tech PRIM","") | AB38: =IF(OR($P$3=Tarifs!$A$94,$P$3=Tarifs!$A$95,$P$3=Tarifs!$A$95,$P$3=Tarifs!$A$104),0,IF($B38="",0,IF(AND(AA38="Tech PRIM",$B38=Tarifs!$A$35),I38*$AB$11,I38*IFERROR(VLOOKUP(Tarifs!D$96,RABAIS,2,FALSE),0)))) -> 0 | AC38: =IF($P$3=Tarifs!$A$104,IF(AND(AA38="Tech PRIM",$B38=Tarifs!$A$35),0,IF(OR($P$7=0,I38<=AD37),I38,AD37)),0) -> 0 | AD38: =AD37-AC38 -> 0 | AE38: =(X38-AC38)*$AE$11 -> 0 | AF38: =IF($P$3=Tarifs!$A$104,AC38+AE38,AB38) -> 0 | AG38: =IF($P$3=Tarifs!$A$104,IF($P$8=0,0,IF(T38<=AH33,T38,AH33)),0) -> 0 | AH38: =AH37-AG38 -> 0 | AI38: =AG38 -> 0
F39: x | G39: =IF(A39="",0,VLOOKUP(A39,Tarifs!A$3:E$21,2,FALSE)) -> 0 | H39: = | I39: =C39*G39 -> 0 | J39: + | K39: =AF39 -> 0 | L39: = | M39: =I39-K39 -> 0 | O39: =IF(B39=0,"",B39) | P39: =IF(OR(B39=Tarifs!$A$35,B39=Tarifs!$A$36,B39=""),"", C39) | Q39: x | R39: =IF(B39="",0,VLOOKUP(B39,Techs_son_Tarifs,2,FALSE)) -> 0 | S39: = | T39: =IF(P39="",0,R39*P39) -> 0 | U39: - | V39: =IF(OR(T39=0,$P$8=0),0,IF(Tarifs!D$96=8,IF(P$8>T39,T39,P$8),0)) -> 0 | W39: = | X39: =T39-V39 -> 0 | Z39: =M39+X39 -> 0 | AA39: =IF(IFERROR(VLOOKUP(A39,Tarifs!A$3:C$19,3,FALSE),"")="x","Tech PRIM","") | AB39: =IF(OR($P$3=Tarifs!$A$94,$P$3=Tarifs!$A$95,$P$3=Tarifs!$A$95,$P$3=Tarifs!$A$104),0,IF($B39="",0,IF(AND(AA39="Tech PRIM",$B39=Tarifs!$A$35),I39*$AB$11,I39*IFERROR(VLOOKUP(Tarifs!D$96,RABAIS,2,FALSE),0)))) -> 0 | AC39: =IF($P$3=Tarifs!$A$104,IF(AND(AA39="Tech PRIM",$B39=Tarifs!$A$35),0,IF(OR($P$7=0,I39<=AD38),I39,AD38)),0) -> 0 | AD39: =AD38-AC39 -> 0 | AE39: =(X39-AC39)*$AE$11 -> 0 | AF39: =IF($P$3=Tarifs!$A$104,AC39+AE39,AB39) -> 0 | AG39: =IF($P$3=Tarifs!$A$104,IF($P$8=0,0,IF(T39<=AH34,T39,AH34)),0) -> 0 | AH39: =AH38-AG39 -> 0 | AI39: =AG39 -> 0
F40: x | G40: =IF(A40="",0,VLOOKUP(A40,Tarifs!A$3:E$21,2,FALSE)) -> 0 | H40: = | I40: =C40*G40 -> 0 | J40: + | K40: =AF40 -> 0 | L40: = | M40: =I40-K40 -> 0 | O40: =IF(B40=0,"",B40) | P40: =IF(OR(B40=Tarifs!$A$35,B40=Tarifs!$A$36,B40=""),"", C40) | Q40: x | R40: =IF(B40="",0,VLOOKUP(B40,Techs_son_Tarifs,2,FALSE)) -> 0 | S40: = | T40: =IF(P40="",0,R40*P40) -> 0 | U40: - | V40: =IF(OR(T40=0,$P$8=0),0,IF(Tarifs!D$96=8,IF(P$8>T40,T40,P$8),0)) -> 0 | W40: = | X40: =T40-V40 -> 0 | Z40: =M40+X40 -> 0 | AA40: =IF(IFERROR(VLOOKUP(A40,Tarifs!A$3:C$19,3,FALSE),"")="x","Tech PRIM","") | AB40: =IF(OR($P$3=Tarifs!$A$94,$P$3=Tarifs!$A$95,$P$3=Tarifs!$A$95,$P$3=Tarifs!$A$104),0,IF($B40="",0,IF(AND(AA40="Tech PRIM",$B40=Tarifs!$A$35),I40*$AB$11,I40*IFERROR(VLOOKUP(Tarifs!D$96,RABAIS,2,FALSE),0)))) -> 0 | AC40: =IF($P$3=Tarifs!$A$104,IF(AND(AA40="Tech PRIM",$B40=Tarifs!$A$35),0,IF(OR($P$7=0,I40<=AD39),I40,AD39)),0) -> 0 | AD40: =AD39-AC40 -> 0 | AE40: =(X40-AC40)*$AE$11 -> 0 | AF40: =IF($P$3=Tarifs!$A$104,AC40+AE40,AB40) -> 0 | AG40: =IF($P$3=Tarifs!$A$104,IF($P$8=0,0,IF(T40<=AH35,T40,AH35)),0) -> 0 | AH40: =AH39-AG40 -> 0 | AI40: =AG40 -> 0
F41: x | G41: =IF(A41="",0,VLOOKUP(A41,Tarifs!A$3:E$21,2,FALSE)) -> 0 | H41: = | I41: =C41*G41 -> 0 | J41: + | K41: =AF41 -> 0 | L41: = | M41: =I41-K41 -> 0 | O41: =IF(B41=0,"",B41) | P41: =IF(OR(B41=Tarifs!$A$35,B41=Tarifs!$A$36,B41=""),"", C41) | Q41: x | R41: =IF(B41="",0,VLOOKUP(B41,Techs_son_Tarifs,2,FALSE)) -> 0 | S41: = | T41: =IF(P41="",0,R41*P41) -> 0 | U41: - | V41: =IF(OR(T41=0,$P$8=0),0,IF(Tarifs!D$96=8,IF(P$8>T41,T41,P$8),0)) -> 0 | W41: = | X41: =T41-V41 -> 0 | Z41: =M41+X41 -> 0 | AA41: =IF(IFERROR(VLOOKUP(A41,Tarifs!A$3:C$19,3,FALSE),"")="x","Tech PRIM","") | AB41: =IF(OR($P$3=Tarifs!$A$94,$P$3=Tarifs!$A$95,$P$3=Tarifs!$A$95,$P$3=Tarifs!$A$104),0,IF($B41="",0,IF(AND(AA41="Tech PRIM",$B41=Tarifs!$A$35),I41*$AB$11,I41*IFERROR(VLOOKUP(Tarifs!D$96,RABAIS,2,FALSE),0)))) -> 0 | AC41: =IF($P$3=Tarifs!$A$104,IF(AND(AA41="Tech PRIM",$B41=Tarifs!$A$35),0,IF(OR($P$7=0,I41<=AD40),I41,AD40)),0) -> 0 | AD41: =AD40-AC41 -> 0 | AE41: =(X41-AC41)*$AE$11 -> 0 | AF41: =IF($P$3=Tarifs!$A$104,AC41+AE41,AB41) -> 0 | AG41: =IF($P$3=Tarifs!$A$104,IF($P$8=0,0,IF(T41<=AH36,T41,AH36)),0) -> 0 | AH41: =AH40-AG41 -> 0 | AI41: =AG41 -> 0
F42: x | G42: =IF(A42="",0,VLOOKUP(A42,Tarifs!A$3:E$21,2,FALSE)) -> 0 | H42: = | I42: =C42*G42 -> 0 | J42: + | K42: =AF42 -> 0 | L42: = | M42: =I42-K42 -> 0 | O42: =IF(B42=0,"",B42) | P42: =IF(OR(B42=Tarifs!$A$35,B42=Tarifs!$A$36,B42=""),"", C42) | Q42: x | R42: =IF(B42="",0,VLOOKUP(B42,Techs_son_Tarifs,2,FALSE)) -> 0 | S42: = | T42: =IF(P42="",0,R42*P42) -> 0 | U42: - | V42: =IF(OR(T42=0,$P$8=0),0,IF(Tarifs!D$96=8,IF(P$8>T42,T42,P$8),0)) -> 0 | W42: = | X42: =T42-V42 -> 0 | Z42: =M42+X42 -> 0 | AA42: =IF(IFERROR(VLOOKUP(A42,Tarifs!A$3:C$19,3,FALSE),"")="x","Tech PRIM","") | AB42: =IF(OR($P$3=Tarifs!$A$94,$P$3=Tarifs!$A$95,$P$3=Tarifs!$A$95,$P$3=Tarifs!$A$104),0,IF($B42="",0,IF(AND(AA42="Tech PRIM",$B42=Tarifs!$A$35),I42*$AB$11,I42*IFERROR(VLOOKUP(Tarifs!D$96,RABAIS,2,FALSE),0)))) -> 0 | AC42: =IF($P$3=Tarifs!$A$104,IF(AND(AA42="Tech PRIM",$B42=Tarifs!$A$35),0,IF(OR($P$7=0,I42<=AD41),I42,AD41)),0) -> 0 | AD42: =AD41-AC42 -> 0 | AE42: =(X42-AC42)*$AE$11 -> 0 | AF42: =IF($P$3=Tarifs!$A$104,AC42+AE42,AB42) -> 0 | AG42: =IF($P$3=Tarifs!$A$104,IF($P$8=0,0,IF(T42<=AH37,T42,AH37)),0) -> 0 | AH42: =AH41-AG42 -> 0 | AI42: =AG42 -> 0
F43: x | G43: =IF(A43="",0,VLOOKUP(A43,Tarifs!A$3:E$21,2,FALSE)) -> 0 | H43: = | I43: =C43*G43 -> 0 | J43: + | K43: =AF43 -> 0 | L43: = | M43: =I43-K43 -> 0 | O43: =IF(B43=0,"",B43) | P43: =IF(OR(B43=Tarifs!$A$35,B43=Tarifs!$A$36,B43=""),"", C43) | Q43: x | R43: =IF(B43="",0,VLOOKUP(B43,Techs_son_Tarifs,2,FALSE)) -> 0 | S43: = | T43: =IF(P43="",0,R43*P43) -> 0 | U43: - | V43: =IF(OR(T43=0,$P$8=0),0,IF(Tarifs!D$96=8,IF(P$8>T43,T43,P$8),0)) -> 0 | W43: = | X43: =T43-V43 -> 0 | Z43: =M43+X43 -> 0 | AA43: =IF(IFERROR(VLOOKUP(A43,Tarifs!A$3:C$19,3,FALSE),"")="x","Tech PRIM","") | AB43: =IF(OR($P$3=Tarifs!$A$94,$P$3=Tarifs!$A$95,$P$3=Tarifs!$A$95,$P$3=Tarifs!$A$104),0,IF($B43="",0,IF(AND(AA43="Tech PRIM",$B43=Tarifs!$A$35),I43*$AB$11,I43*IFERROR(VLOOKUP(Tarifs!D$96,RABAIS,2,FALSE),0)))) -> 0 | AC43: =IF($P$3=Tarifs!$A$104,IF(AND(AA43="Tech PRIM",$B43=Tarifs!$A$35),0,IF(OR($P$7=0,I43<=AD42),I43,AD42)),0) -> 0 | AD43: =AD42-AC43 -> 0 | AE43: =(X43-AC43)*$AE$11 -> 0 | AF43: =IF($P$3=Tarifs!$A$104,AC43+AE43,AB43) -> 0 | AG43: =IF($P$3=Tarifs!$A$104,IF($P$8=0,0,IF(T43<=AH38,T43,AH38)),0) -> 0 | AH43: =AH42-AG43 -> 0 | AI43: =AG43 -> 0
F44: x | G44: =IF(A44="",0,VLOOKUP(A44,Tarifs!A$3:E$21,2,FALSE)) -> 0 | H44: = | I44: =C44*G44 -> 0 | J44: + | K44: =AF44 -> 0 | L44: = | M44: =I44-K44 -> 0 | O44: =IF(B44=0,"",B44) | P44: =IF(OR(B44=Tarifs!$A$35,B44=Tarifs!$A$36,B44=""),"", C44) | Q44: x | R44: =IF(B44="",0,VLOOKUP(B44,Techs_son_Tarifs,2,FALSE)) -> 0 | S44: = | T44: =IF(P44="",0,R44*P44) -> 0 | U44: - | V44: =IF(OR(T44=0,$P$8=0),0,IF(Tarifs!D$96=8,IF(P$8>T44,T44,P$8),0)) -> 0 | W44: = | X44: =T44-V44 -> 0 | Z44: =M44+X44 -> 0 | AA44: =IF(IFERROR(VLOOKUP(A44,Tarifs!A$3:C$19,3,FALSE),"")="x","Tech PRIM","") | AB44: =IF(OR($P$3=Tarifs!$A$94,$P$3=Tarifs!$A$95,$P$3=Tarifs!$A$95,$P$3=Tarifs!$A$104),0,IF($B44="",0,IF(AND(AA44="Tech PRIM",$B44=Tarifs!$A$35),I44*$AB$11,I44*IFERROR(VLOOKUP(Tarifs!D$96,RABAIS,2,FALSE),0)))) -> 0 | AC44: =IF($P$3=Tarifs!$A$104,IF(AND(AA44="Tech PRIM",$B44=Tarifs!$A$35),0,IF(OR($P$7=0,I44<=AD43),I44,AD43)),0) -> 0 | AD44: =AD43-AC44 -> 0 | AE44: =(X44-AC44)*$AE$11 -> 0 | AF44: =IF($P$3=Tarifs!$A$104,AC44+AE44,AB44) -> 0 | AG44: =IF($P$3=Tarifs!$A$104,IF($P$8=0,0,IF(T44<=AH39,T44,AH39)),0) -> 0 | AH44: =AH43-AG44 -> 0 | AI44: =AG44 -> 0
...

Sheet INSTRUCTIONS & EXAMPLE
C1: Help filling out the form
C3: 1. Choose the support program and 2. Indicate the duration of the work | O3: Support Program: | P3: Creation Assistance
C4: 3. Choose the rooms or equipment you want from column A. | O4: Project Title:
A5: ESTIMATING TECHNICAL REQUIREMENTS | C5: 4. Choose in column B which technician you want to work with | O5: Artist's name: | P5: John Doe
D6: This choice is essential because it determines the applicable discount. | O6: Duration of the work: | P6: 65 | Q6: min. | S6: Pratique :
C7: 5. Indicate the quantities or number of hours you estimate you will need (col. C and D) | O7: Valeur Résidence ou prix : | T7: =IFERROR(VLOOKUP($T$6,Tarifs!$A$110:$E$114,IF(DUREE<60,3,5),FALSE),"")
A8: EXAMPLE - DO NOT USE THIS TABLE | C8: The costs of renting rooms and equipment will be calculated in columns G to M and those associated with technicians' fees in columns O to X. | O8: Honoraires tech. Inclus :
AA10: Validation | AB10: Aides programmes | AC10: Aide residence | AD10: Solde Res | AE10: Différence | AF10: TOTAL AIDE SALLES | AG10: Aide Tech Res | AH10: Solde techs | AI10: TOTAL AIDE TECHS
A11: FILMING EQUIPMENT RENTAL | G11: Equipements | Z11: =IF(Tarifs!$D$96=Tarifs!$B$102,"TOTAL Payable by the organization", "TOTAL Payable by the artist") -> TOTAL Payable by the artist | AB11: 0.5 | AE11: 0.5
A12: Equipment | C12: Qt | E12: Duration | G12: Rate | I12: Costs | K12: =IFERROR(IF(OR($P$3=Tarifs!$A$94,$P$3=Tarifs!$A$95),"PRIM Support","PRIM Support "&VLOOKUP($P$3,Tarifs!$A$94:$C$104,3,FALSE)*100&"%"),"PRIM Support") -> PRIM Support 75% | M12: Payable | AC12: 0 | AD12: 0 | AH12: 0
A13: Caméra KIT 1 (Panasonic EVA-1 camera + 3 Canon lenses + Rig Shape + Atomos Shogun recorder + Sachtler tripod + batteries + 2 x 128 GB cards) | C13: 1 | E13: Week | F13: x | G13: =IF(OR(A13="",E13=""),0,(VLOOKUP(A13,Tarifs!A$48:E$83,IF(E13="Day",2,IF(E13="Weekend",3,IF(E13="Week",4,IF(E13="Month",5,"")))),FALSE))) -> 1600 | H13: = | I13: =C13*G13 -> 1600 | J13: - | K13: =AI13 -> 1200 | L13: = | M13: =I13-K13 -> 400 | Z13: =M13 -> 400 | AB13: 1200 | AC13: 0 | AD13: 0 | AE13: 800 | AF13: 1200 | AG13: 0 | AH13: 0 | AI13: 1200
A14: Shooting audio KIT (Sound Devices MixPre-10T + Sennheiser MKH 60 Microphone + zeppelin + fur + boom + 2 Lavalier microphones) | C14: 4 | E14: Day | F14: x | G14: =IF(OR(A14="",E14=""),0,(VLOOKUP(A14,Tarifs!A$48:E$83,IF(E14="Day",2,IF(E14="Weekend",3,IF(E14="Week",4,IF(E14="Month",5,"")))),FALSE))) -> 200 | H14: = | I14: =C14*G14 -> 800 | J14: - | K14: =AI14 -> 600 | L14: = | M14: =I14-K14 -> 200 | Z14: =M14 -> 200 | AB14: 600 | AC14: 0 | AD14: 0 | AE14: 400 | AF14: 600 | AG14: 0 | AH14: 0 | AI14: 600
F15: x | G15: =IF(OR(A15="",E15=""),0,(VLOOKUP(A15,Tarifs!A$48:E$83,IF(E15="Day",2,IF(E15="Weekend",3,IF(E15="Week",4,IF(E15="Month",5,"")))),FALSE))) -> 0 | H15: = | I15: =C15*G15 -> 0 | J15: - | K15: =AI15 -> 0 | L15: = | M15: =I15-K15 -> 0 | Z15: =M15 -> 0 | AB15: 0 | AC15: 0 | AD15: 0 | AE15: 0 | AF15: 0 | AG15: 0 | AH15: 0 | AI15: 0
F16: x | G16: =IF(OR(A16="",E16=""),0,(VLOOKUP(A16,Tarifs!A$48:E$83,IF(E16="Day",2,IF(E16="Weekend",3,IF(E16="Week",4,IF(E16="Month",5,"")))),FALSE))) -> 0 | H16: = | I16: =C16*G16 -> 0 | J16: - | K16: =AI16 -> 0 | L16: = | M16: =I16-K16 -> 0 | Z16: =M16 -> 0 | AB16: 0 | AC16: 0 | AD16: 0 | AE16: 0 | AF16: 0 | AG16: 0 | AH16: 0 | AI16: 0
F17: x | G17: =IF(OR(A17="",E17=""),0,(VLOOKUP(A17,Tarifs!A$48:E$83,IF(E17="Day",2,IF(E17="Weekend",3,IF(E17="Week",4,IF(E17="Month",5,"")))),FALSE))) -> 0 | H17: = | I17: =C17*G17 -> 0 | J17: - | K17: =AI17 -> 0 | L17: = | M17: =I17-K17 -> 0 | Z17: =M17 -> 0 | AB17: 0 | AC17: 0 | AD17: 0 | AE17: 0 | AF17: 0 | AG17: 0 | AH17: 0 | AI17: 0
F18: x | G18: =IF(OR(A18="",E18=""),0,(VLOOKUP(A18,Tarifs!A$48:E$83,IF(E18="Day",2,IF(E18="Weekend",3,IF(E18="Week",4,IF(E18="Month",5,"")))),FALSE))) -> 0 | H18: = | I18: =C18*G18 -> 0 | J18: - | K18: =AI18 -> 0 | L18: = | M18: =I18-K18 -> 0 | Z18: =M18 -> 0 | AB18: 0 | AC18: 0 | AD18: 0 | AE18: 0 | AF18: 0 | AG18: 0 | AH18: 0 | AI18: 0
F19: x | G19: =IF(OR(A19="",E19=""),0,(VLOOKUP(A19,Tarifs!A$48:E$83,IF(E19="Day",2,IF(E19="Weekend",3,IF(E19="Week",4,IF(E19="Month",5,"")))),FALSE))) -> 0 | H19: = | I19: =C19*G19 -> 0 | J19: - | K19: =AI19 -> 0 | L19: = | M19: =I19-K19 -> 0 | Z19: =M19 -> 0 | AB19: 0 | AC19: 0 | AD19: 0 | AE19: 0 | AF19: 0 | AG19: 0 | AH19: 0 | AI19: 0
A20: TOTAL LOCATION ÉQUIPEMENTS DE TOURNAGE | I20: =SUM(I13:I19) -> 2400 | J20: - | K20: =SUM(K13:K19) -> 1800 | L20: = | M20: =SUM(M13:M19) -> 600 | Z20: =SUM(Z13:Z19) -> 600
A22: IMAGE POST-PRODUCTION | B22: PRIM Technician Choice This choice has an impact on the discount (PRIM Support) | G22: Rooms and equipments | R22: Technicians | Z22: =IF(Tarifs!$D$96=Tarifs!$B$102,"TOTAL Payable by the organization", "TOTAL Payable by the artist") -> TOTAL Payable by the artist
A23: Rooms and equipments | C23: Number of hours | G23: Rate | I23: Costs | K23: =IFERROR(IF(OR($P$3=Tarifs!$A$94,$P$3=Tarifs!$A$95),"PRIM Support","PRIM Support "&VLOOKUP($P$3,Tarifs!$A$94:$C$104,3,FALSE)*100&"%"),"PRIM Support") -> PRIM Support 75% | M23: Payable | O23: PRIM Technicians | P23: Number of hours | R23: Rate | T23: Costs | V23: PRIM Support | X23: Payable
A24: Color grading room with 4K projector, 154'' screen | B24: Colorist | C24: 80 | F24: x | G24: =IF(A24="",0,VLOOKUP(A24,Tarifs!A$3:E$21,2,FALSE)) -> 150 | H24: = | I24: =C24*G24 -> 12000 | J24: - | K24: =AF24 -> 9000 | L24: = | M24: =I24-K24 -> 3000 | O24: =IF(B24=0,"",B24) -> Colorist | P24: =IF(OR(B24=Tarifs!$A$35,B24=Tarifs!$A$36,B24=""),"", C24) -> 80 | Q24: x | R24: =IF(OR(B24="",B24=" "),0,VLOOKUP(B24,Techs_Images_Tarifs,2,FALSE)) -> 45 | S24: = | T24: =IF(P24="",0,R24*P24) -> 3600 | U24: - | V24: =IF(OR(T24=0,$P$8=0),0,IF(Tarifs!D$96=8,IF(P$8>T24,T24,P$8),0)) -> 0 | W24: = | X24: =T24-V24 -> 3600 | Z24: =M24+X24 -> 6600 | AA24: Tech PRIM | AB24: 9000 | AC24: 0 | AD24: 0 | AE24: 6000 | AF24: 9000 | AG24: 0 | AH24: 0 | AI24: 0
A25: Offline editing room | B25: -- I work my external technician | C25: 120 | F25: x | G25: =IF(A25="",0,VLOOKUP(A25,Tarifs!A$3:E$21,2,FALSE)) -> 30 | H25: = | I25: =C25*G25 -> 3600 | J25: - | K25: =AF25 -> 2700 | L25: = | M25: =I25-K25 -> 900 | O25: =IF(B25=0,"",B25) -> -- I work my external technician | P25: =IF(OR(B25=Tarifs!$A$35,B25=Tarifs!$A$36,B25=""),"", C25) | Q25: x | R25: =IF(B25="",0,VLOOKUP(B25,Techs_Images_Tarifs,2,FALSE)) -> 0 | S25: = | T25: =IF(P25="",0,R25*P25) -> 0 | U25: - | V25: =IF(OR(T25=0,$P$8=0),0,IF(Tarifs!D$96=8,IF(P$8>T25,T25,P$8),0)) -> 0 | W25: = | X25: =T25-V25 -> 0 | Z25: =M25+X25 -> 900 | AB25: 2700 | AC25: 0 | AD25: 0 | AE25: 0 | AF25: 2700 | AG25: 0 | AH25: 0 | AI25: 0
F26: x | G26: =IF(A26="",0,VLOOKUP(A26,Tarifs!A$3:E$21,2,FALSE)) -> 0 | H26: = | I26: =C26*G26 -> 0 | J26: - | K26: =AF26 -> 0 | L26: = | M26: =I26-K26 -> 0 | O26: =IF(B26=0,"",B26) | P26: =IF(OR(B26=Tarifs!$A$35,B26=Tarifs!$A$36,B26=""),"", C26) | Q26: x | R26: =IF(B26="",0,VLOOKUP(B26,Techs_Images_Tarifs,2,FALSE)) -> 0 | S26: = | T26: =IF(P26="",0,R26*P26) -> 0 | U26: - | V26: =IF(OR(T26=0,$P$8=0),0,IF(Tarifs!D$96=8,IF(P$8>T26,T26,P$8),0)) -> 0 | W26: = | X26: =T26-V26 -> 0 | Z26: =M26+X26 -> 0 | AB26: 0 | AC26: 0 | AD26: 0 | AE26: 0 | AF26: 0 | AG26: 0 | AH26: 0 | AI26: 0
F27: x | G27: =IF(A27="",0,VLOOKUP(A27,Tarifs!A$3:E$21,2,FALSE)) -> 0 | H27: = | I27: =C27*G27 -> 0 | J27: - | K27: =AF27 -> 0 | L27: = | M27: =I27-K27 -> 0 | O27: =IF(B27=0,"",B27) | P27: =IF(OR(B27=Tarifs!$A$35,B27=Tarifs!$A$36,B27=""),"", C27) | Q27: x | R27: =IF(B27="",0,VLOOKUP(B27,Techs_Images_Tarifs,2,FALSE)) -> 0 | S27: = | T27: =IF(P27="",0,R27*P27) -> 0 | U27: - | V27: =IF(OR(T27=0,$P$8=0),0,IF(Tarifs!D$96=8,IF(P$8>T27,T27,P$8),0)) -> 0 | W27: = | X27: =T27-V27 -> 0 | Z27: =M27+X27 -> 0 | AB27: 0 | AC27: 0 | AD27: 0 | AE27: 0 | AF27: 0 | AG27: 0 | AH27: 0 | AI27: 0
F28: x | G28: =IF(A28="",0,VLOOKUP(A28,Tarifs!A$3:E$21,2,FALSE)) -> 0 | H28: = | I28: =C28*G28 -> 0 | J28: - | K28: =AF28 -> 0 | L28: = | M28: =I28-K28 -> 0 | O28: =IF(B28=0,"",B28) | P28: =IF(OR(B28=Tarifs!$A$35,B28=Tarifs!$A$36,B28=""),"", C28) | Q28: x | R28: =IF(B28="",0,VLOOKUP(B28,Techs_Images_Tarifs,2,FALSE)) -> 0 | S28: = | T28: =IF(P28="",0,R28*P28) -> 0 | U28: - | V28: =IF(OR(T28=0,$P$8=0),0,IF(Tarifs!D$96=8,IF(P$8>T28,T28,P$8),0)) -> 0 | W28: = | X28: =T28-V28 -> 0 | Z28: =M28+X28 -> 0 | AB28: 0 | AC28: 0 | AD28: 0 | AE28: 0 | AF28: 0 | AG28: 0 | AH28: 0 | AI28: 0
F29: x | G29: =IF(A29="",0,VLOOKUP(A29,Tarifs!A$3:E$21,2,FALSE)) -> 0 | H29: = | I29: =C29*G29 -> 0 | J29: - | K29: =AF29 -> 0 | L29: = | M29: =I29-K29 -> 0 | O29: =IF(B29=0,"",B29) | P29: =IF(OR(B29=Tarifs!$A$35,B29=Tarifs!$A$36,B29=""),"", C29) | Q29: x | R29: =IF(B29="",0,VLOOKUP(B29,Techs_Images_Tarifs,2,FALSE)) -> 0 | S29: = | T29: =IF(P29="",0,R29*P29) -> 0 | U29: - | V29: =IF(OR(T29=0,$P$8=0),0,IF(Tarifs!D$96=8,IF(P$8>T29,T29,P$8),0)) -> 0 | W29: = | X29: =T29-V29 -> 0 | Z29: =M29+X29 -> 0 | AB29: 0 | AC29: 0 | AD29: 0 | AE29: 0 | AF29: 0 | AG29: 0 | AH29: 0 | AI29: 0
F30: x | G30: =IF(A30="",0,VLOOKUP(A30,Tarifs!A$3:E$21,2,FALSE)) -> 0 | H30: = | I30: =C30*G30 -> 0 | J30: - | K30: =AF30 -> 0 | L30: = | M30: =I30-K30 -> 0 | O30: =IF(B30=0,"",B30) | P30: =IF(OR(B30=Tarifs!$A$35,B30=Tarifs!$A$36,B30=""),"", C30) | Q30: x | R30: =IF(B30="",0,VLOOKUP(B30,Techs_Images_Tarifs,2,FALSE)) -> 0 | S30: = | T30: =IF(P30="",0,R30*P30) -> 0 | U30: - | V30: =IF(OR(T30=0,$P$8=0),0,IF(Tarifs!D$96=8,IF(P$8>T30,T30,P$8),0)) -> 0 | W30: = | X30: =T30-V30 -> 0 | Z30: =M30+X30 -> 0 | AB30: 0 | AC30: 0 | AD30: 0 | AE30: 0 | AF30: 0 | AG30: 0 | AH30: 0 | AI30: 0
F31: x | G31: =IF(A31="",0,VLOOKUP(A31,Tarifs!A$3:E$21,2,FALSE)) -> 0 | H31: = | I31: =C31*G31 -> 0 | J31: - | K31: =AF31 -> 0 | L31: = | M31: =I31-K31 -> 0 | O31: =IF(B31=0,"",B31) | P31: =IF(OR(B31=Tarifs!$A$35,B31=Tarifs!$A$36,B31=""),"", C31) | Q31: x | R31: =IF(B31="",0,VLOOKUP(B31,Techs_Images_Tarifs,2,FALSE)) -> 0 | S31: = | T31: =IF(P31="",0,R31*P31) -> 0 | U31: - | V31: =IF(OR(T31=0,$P$8=0),0,IF(Tarifs!D$96=8,IF(P$8>T31,T31,P$8),0)) -> 0 | W31: = | X31: =T31-V31 -> 0 | Z31: =M31+X31 -> 0 | AB31: 0 | AC31: 0 | AD31: 0 | AE31: 0 | AF31: 0 | AG31: 0 | AH31: 0 | AI31: 0
A32: =Tarifs!A11 -> Data management fee (flat fee) | B32: Included | C32: =IF(SUM(I24:I31)>=4000,1,0) -> 1 | F32: x | G32: =IF(C32=0,0,VLOOKUP(A32,Tarifs!A$3:E$21,2,FALSE)) -> 100 | I32: =C32*G32 -> 100 | J32: - | K32: =AF32 -> 75 | M32: =I32-K32 -> 25 | Z32: =M32+X32 -> 25 | AB32: 75 | AC32: 0 | AD32: 0 | AE32: 0 | AF32: 75 | AG32: 0 | AH32: 0 | AI32: 0
A33: TOTAL IMAGE POST-PRODUCTION | I33: =SUM(I24:I32) -> 15700 | J33: - | K33: =SUM(K24:K32) -> 11775 | L33: = | M33: =SUM(M24:M32) -> 3925 | T33: =SUM(T24:T32) -> 3600 | U33: - | V33: =SUM(V24:V32) -> 0 | W33: = | X33: =SUM(X24:X32) -> 3600 | Z33: =SUM(Z24:Z32) -> 7525
A35: SOUND POST-PRODUCTION | B35: PRIM Technician Choice This choice has an impact on the discount (PRIM Support) | G35: Studios and equipements | R35: Technicians | Z35: =IF(Tarifs!$D$96=Tarifs!$B$102,"TOTAL Payable by the organization", "TOTAL Payable by the artist") -> TOTAL Payable by the artist
A36: Studios and equipements | C36: Number of hours | G36: Rate | I36: Costs | K36: =IFERROR(IF(OR($P$3=Tarifs!$A$94,$P$3=Tarifs!$A$95),"PRIM Support","PRIM Support "&VLOOKUP($P$3,Tarifs!$A$94:$C$104,3,FALSE)*100&"%"),"PRIM Support") -> PRIM Support 75% | M36: Payable | O36: PRIM Technicians | P36: Number of hours | R36: Rate | T36: Costs | V36: PRIM Support | X36: Payable
F37: x | G37: =IF(A37="",0,VLOOKUP(A37,Tarifs!A$3:E$21,2,FALSE)) -> 0 | H37: = | I37: =C37*G37 -> 0 | J37: - | K37: =AF37 -> 0 | L37: = | M37: =I37-K37 -> 0 | O37: =IF(B37=0,"",B37) | P37: =IF(OR(B37=Tarifs!$A$35,B37=Tarifs!$A$36,B37=""),"", C37) | Q37: x | R37: =IF(B37="",0,VLOOKUP(B37,Techs_son_Tarifs,2,FALSE)) -> 0 | S37: = | T37: =IF(P37="",0,R37*P37) -> 0 | U37: - | V37: =IF(OR(T37=0,$P$8=0),0,IF(Tarifs!D$96=8,IF(P$8>T37,T37,P$8),0)) -> 0 | W37: = | X37: =T37-V37 -> 0 | Z37: =M37+X37 -> 0 | AB37: 0 | AC37: 0 | AD37: 0 | AE37: 0 | AF37: 0 | AG37: 0 | AH37: 0 | AI37: 0
F38: x | G38: =IF(A38="",0,VLOOKUP(A38,Tarifs!A$3:E$21,2,FALSE)) -> 0 | H38: = | I38: =C38*G38 -> 0 | J38: + | K38: =AF38 -> 0 | L38: = | M38: =I38-K38 -> 0 | O38: =IF(B38=0,"",B38) | P38: =IF(OR(B38=Tarifs!$A$35,B38=Tarifs!$A$36,B38=""),"", C38) | Q38: x | R38: =IF(B38="",0,VLOOKUP(B38,Techs_son_Tarifs,2,FALSE)) -> 0 | S38: = | T38: =IF(P38="",0,R38*P38) -> 0 | U38: - | V38: =IF(OR(T38=0,$P$8=0),0,IF(Tarifs!D$96=8,IF(P$8>T38,T38,P$8),0)) -> 0 | W38: = | X38: =T38-V38 -> 0 | Z38: =M38+X38 -> 0 | AB38: 0 | AC38: 0 | AD38: 0 | AE38: 0 | AF38: 0 | AG38: 0 | AH38: 0 | AI38: 0
F39: x | G39: =IF(A39="",0,VLOOKUP(A39,Tarifs!A$3:E$21,2,FALSE)) -> 0 | H39: = | I39: =C39*G39 -> 0 | J39: + | K39: =AF39 -> 0 | L39: = | M39: =I39-K39 -> 0 | O39: =IF(B39=0,"",B39) | P39: =IF(OR(B39=Tarifs!$A$35,B39=Tarifs!$A$36,B39=""),"", C39) | Q39: x | R39: =IF(B39="",0,VLOOKUP(B39,Techs_son_Tarifs,2,FALSE)) -> 0 | S39: = | T39: =IF(P39="",0,R39*P39) -> 0 | U39: - | V39: =IF(OR(T39=0,$P$8=0),0,IF(Tarifs!D$96=8,IF(P$8>T39,T39,P$8),0)) -> 0 | W39: = | X39: =T39-V39 -> 0 | Z39: =M39+X39 -> 0 | AB39: 0 | AC39: 0 | AD39: 0 | AE39: 0 | AF39: 0 | AG39: 0 | AH39: 0 | AI39: 0
F40: x | G40: =IF(A40="",0,VLOOKUP(A40,Tarifs!A$3:E$21,2,FALSE)) -> 0 | H40: = | I40: =C40*G40 -> 0 | J40: + | K40: =AF40 -> 0 | L40: = | M40: =I40-K40 -> 0 | O40: =IF(B40=0,"",B40) | P40: =IF(OR(B40=Tarifs!$A$35,B40=Tarifs!$A$36,B40=""),"", C40) | Q40: x | R40: =IF(B40="",0,VLOOKUP(B40,Techs_son_Tarifs,2,FALSE)) -> 0 | S40: = | T40: =IF(P40="",0,R40*P40) -> 0 | U40: - | V40: =IF(OR(T40=0,$P$8=0),0,IF(Tarifs!D$96=8,IF(P$8>T40,T40,P$8),0)) -> 0 | W40: = | X40: =T40-V40 -> 0 | Z40: =M40+X40 -> 0 | AB40: 0 | AC40: 0 | AD40: 0 | AE40: 0 | AF40: 0 | AG40: 0 | AH40: 0 | AI40: 0
F41: x | G41: =IF(A41="",0,VLOOKUP(A41,Tarifs!A$3:E$21,2,FALSE)) -> 0 | H41: = | I41: =C41*G41 -> 0 | J41: + | K41: =AF41 -> 0 | L41: = | M41: =I41-K41 -> 0 | O41: =IF(B41=0,"",B41) | P41: =IF(OR(B41=Tarifs!$A$35,B41=Tarifs!$A$36,B41=""),"", C41) | Q41: x | R41: =IF(B41="",0,VLOOKUP(B41,Techs_son_Tarifs,2,FALSE)) -> 0 | S41: = | T41: =IF(P41="",0,R41*P41) -> 0 | U41: - | V41: =IF(OR(T41=0,$P$8=0),0,IF(Tarifs!D$96=8,IF(P$8>T41,T41,P$8),0)) -> 0 | W41: = | X41: =T41-V41 -> 0 | Z41: =M41+X41 -> 0 | AB41: 0 | AC41: 0 | AD41: 0 | AE41: 0 | AF41: 0 | AG41: 0 | AH41: 0 | AI41: 0
F42: x | G42: =IF(A42="",0,VLOOKUP(A42,Tarifs!A$3:E$21,2,FALSE)) -> 0 | H42: = | I42: =C42*G42 -> 0 | J42: + | K42: =AF42 -> 0 | L42: = | M42: =I42-K42 -> 0 | O42: =IF(B42=0,"",B42) | P42: =IF(OR(B42=Tarifs!$A$35,B42=Tarifs!$A$36,B42=""),"", C42) | Q42: x | R42: =IF(B42="",0,VLOOKUP(B42,Techs_son_Tarifs,2,FALSE)) -> 0 | S42: = | T42: =IF(P42="",0,R42*P42) -> 0 | U42: - | V42: =IF(OR(T42=0,$P$8=0),0,IF(Tarifs!D$96=8,IF(P$8>T42,T42,P$8),0)) -> 0 | W42: = | X42: =T42-V42 -> 0 | Z42: =M42+X42 -> 0 | AB42: 0 | AC42: 0 | AD42: 0 | AE42: 0 | AF42: 0 | AG42: 0 | AH42: 0 | AI42: 0
F43: x | G43: =IF(A43="",0,VLOOKUP(A43,Tarifs!A$3:E$21,2,FALSE)) -> 0 | H43: = | I43: =C43*G43 -> 0 | J43: + | K43: =AF43 -> 0 | L43: = | M43: =I43-K43 -> 0 | O43: =IF(B43=0,"",B43) | P43: =IF(OR(B43=Tarifs!$A$35,B43=Tarifs!$A$36,B43=""),"", C43) | Q43: x | R43: =IF(B43="",0,VLOOKUP(B43,Techs_son_Tarifs,2,FALSE)) -> 0 | S43: = | T43: =IF(P43="",0,R43*P43) -> 0 | U43: - | V43: =IF(OR(T43=0,$P$8=0),0,IF(Tarifs!D$96=8,IF(P$8>T43,T43,P$8),0)) -> 0 | W43: = | X43: =T43-V43 -> 0 | Z43: =M43+X43 -> 0 | AB43: 0 | AC43: 0 | AD43: 0 | AE43: 0 | AF43: 0 | AG43: 0 | AH43: 0 | AI43: 0
F44: x | G44: =IF(A44="",0,VLOOKUP(A44,Tarifs!A$3:E$21,2,FALSE)) -> 0 | H44: = | I44: =C44*G44 -> 0 | J44: + | K44: =AF44 -> 0 | L44: = | M44: =I44-K44 -> 0 | O44: =IF(B44=0,"",B44) | P44: =IF(OR(B44=Tarifs!$A$35,B44=Tarifs!$A$36,B44=""),"", C44) | Q44: x | R44: =IF(B44="",0,VLOOKUP(B44,Techs_son_Tarifs,2,FALSE)) -> 0 | S44: = | T44: =IF(P44="",0,R44*P44) -> 0 | U44: - | V44: =IF(OR(T44=0,$P$8=0),0,IF(Tarifs!D$96=8,IF(P$8>T44,T44,P$8),0)) -> 0 | W44: = | X44: =T44-V44 -> 0 | Z44: =M44+X44 -> 0 | AB44: 0 | AC44: 0 | AD44: 0 | AE44: 0 | AF44: 0 | AG44: 0 | AH44: 0 | AI44: 0
...

Sheet Tarifs
A2: Post prod image
A3: Offline editing room (assistance) | B3: 50 | D3: -- I work my external technician | E3: -- I work alone / without a technician | F3: Offline Editor Assistant
A4: Offline editing room | B4: 30 | D4: -- I work my external technician | E4: -- I work alone / without a technician
A5: Online editing room - conform, generics, subtitle integration, ... | B5: 80 | C5: x | D5: -- I work my external technician | E5: -- I work alone / without a technician | F5: Online Editor
A6: Color grading room with 4K projector, 154'' screen | B6: 150 | C6: x | D6: -- I work my external technician | E6: -- I work alone / without a technician | F6: Colorist | G6: Senior Colorist
A7: Color grading room on 65'' OLED screen | B7: 100 | C7: x | D7: -- I work my external technician | E7: -- I work alone / without a technician | F7: Colorist | G7: Senior Colorist
A8: Exploration in Digital Art (VR) | B8: 50 | D8: -- I work my external technician | E8: -- I work alone / without a technician
A9: Viewing - Colorization Room (2K projection, 154'' screen) | B9: 150 | D9: -- I work my external technician | E9: -- I work alone / without a technician | F9: Colorist | G9: Senior Colorist
A10: Viewing - Mixing Room (4K projection, 220" screen) | B10: 160 | D10: -- I work my external technician | E10: -- I work alone / without a technician | F10: Colorist | G10: Senior Colorist
A11: Data management fee (flat fee) | B11: 100
A12: Sound post production
A13: Sound Lab - Recording - Voice, Music, Sound Effects (without accessories) | B13: 80 | C13: x | D13: -- I work my external technician | E13: -- I work alone / without a technician | F13: Mixer / Audio Technician | G13: Senior Mixer / Audio Technician
A14: Sound Lab - Sound Exploration | B14: 80 | C14: x | D14: -- I work my external technician | E14: -- I work alone / without a technician | F14: Mixer / Audio Technician | G14: Senior Mixer / Audio Technician
A15: Sound editing room / recording booths without control room | B15: 30 | D15: -- I work my external technician | E15: -- I work alone / without a technician
A16: Cinema mixing studio | B16: 160 | C16: x | D16: -- I work my external technician | E16: -- I work alone / without a technician | F16: Mixer / Audio Technician | G16: Senior Mixer / Audio Technician
A17: Music Mixing Studio and Installations (Labo) | B17: 80 | C17: x | D17: -- I work my external technician | E17: -- I work alone / without a technician | F17: Mixer / Audio Technician | G17: Senior Mixer / Audio Technician
A18: Viewing - Mixing Room (4K projection, 220" screen) | B18: 160 | D18: -- I work my external technician | E18: -- I work alone / without a technician | F18: Mixer / Audio Technician | G18: Senior Mixer / Audio Technician
A19: VR Spatialization | B19: 50 | C19: x | D19: -- I work my external technician | E19: -- I work alone / without a technician | G19: Mixeur·euse / technicien·ne audio Senior
A20: Deliverables
A21: Exports and digitalization | B21: 50
A22: LTO Archiving
A23: LTO archive (less than 2 TB) | B23: 150 | F23: less than 2 TB
A24: LTO Archive (2TB+) | B24: 300 | F24: 2TB+
A25: DCP
A26: Medium and Feature Film - Master Print (Minute Rate) | B26: 20
A27: Closed captioning surcharge (per language; per-minute rate) | B27: 12
A28: Short film and trailer - Master copy (per copy) | B28: 300
A29: Subtitling supplement (by language; per copy) | B29: 180
A30: Additional Copy (per copy) | B30: 50
A31: OTHER SERVICES NOT CURRENTLY USED
A32: Sound design and editing (without sound bank) | B32: 20
A34: Technicians | B34: Jour | E34: Units
A35: -- I work my external technician | B35: 0
A36: -- I work alone / without a technician | B36: 0
A37: Colorist | B37: 45 | E37: Day
A38: Senior Colorist | B38: 65 | E38: Weekend
A39: Online Editor | B39: 40 | E39: Week
A40: Offline editing assistant | B40: 30 | E40: Month
A41: -- I work my external technician | B41: 0
A42: -- I work alone / without a technician | B42: 0
...
